BEGIN:VCALENDAR
VERSION:2.0
PRODID:-//Stalwart University Institute - ECPv6.15.20//NONSGML v1.0//EN
CALSCALE:GREGORIAN
METHOD:PUBLISH
X-ORIGINAL-URL:https://stalwartuniversityinstitute.com
X-WR-CALDESC:Events for Stalwart University Institute
REFRESH-INTERVAL;VALUE=DURATION:PT1H
X-Robots-Tag:noindex
X-PUBLISHED-TTL:PT1H
BEGIN:VTIMEZONE
TZID:UTC
BEGIN:STANDARD
TZOFFSETFROM:+0000
TZOFFSETTO:+0000
TZNAME:UTC
DTSTART:20250101T000000
END:STANDARD
END:VTIMEZONE
BEGIN:VEVENT
DTSTART;VALUE=DATE:20260421
DTEND;VALUE=DATE:20260602
DTSTAMP:20260425T155705
CREATED:20260421T153134Z
LAST-MODIFIED:20260421T153134Z
UID:3181-1776729600-1780358399@stalwartuniversityinstitute.com
SUMMARY:STALWART SKILLS CENTRE 2026 | ENROLMENT NOW OPEN
DESCRIPTION:Advance your career with practical\, industry-focused training at Stalwart Skills Centre\, the professional development arm of Stalwart University Institute. Our premium programs are designed for students\, professionals\, entrepreneurs\, and job seekers who want relevant skills that create real opportunities in today’s market. \nFEATURED PROFESSIONAL PROGRAMS \n1. SECRETARIAL & OFFICE ADMINISTRATION\nDevelop strong administrative\, communication\, organization\, and office management skills.\nStart Date: June 1\, 2026\nDuration: 6 Months\nTuition: 247\,000 FRS \n2. AGILE PROJECT MANAGEMENT\nLearn to plan\, lead\, and deliver successful projects using modern agile methods.\nStart Date: June 10\, 2026\nDuration: 6 Months\nTuition: 500\,000 FRS\nCertification Fee: 75\,000 FRS \n3. AI CODING & DIGITAL PRODUCTIVITY\nMaster AI-powered coding tools\, automation systems\, and digital workflows.\nStart Date: June 1\, 2026\nDuration: 6 Months\nTuition: 150\,000 FRS \n4. DATA ANALYSIS & BUSINESS INTELLIGENCE\nBuild expertise in reporting\, dashboards\, data interpretation\, and decision-making.\nStart Date: June 1\, 2026\nDuration: 6 Months\nTuition: 250\,000 FRS \nWHY CHOOSE STALWART SKILLS CENTRE? \n• Practical\, job-ready training\n• Experienced instructors\n• Competitive and future-ready skills\n• Professional learning environment\n• Strong career growth potential \nLOCATION \nBonamoussadi Total 2\, Douala\, Cameroon \nREGISTER TODAY \nPhone: 678 398 367 / 655 255 422\nWebsite: www.stalwartuniversityinstitute.com\nEmail: info@stalwartuniversityinstitute.com \nLIMITED SEATS AVAILABLE \nSecure your place now for the June 2026 intake. \nBUILD SKILLS. CREATE OPPORTUNITIES. LEAD THE FUTURE.
URL:https://stalwartuniversityinstitute.com/event/stalwart-skills-centre-2026-enrolment-now-open/
END:VEVENT
END:VCALENDAR