BEGIN:VCALENDAR
VERSION:2.0
PRODID:-//Stalwart University Institute - ECPv6.15.20//NONSGML v1.0//EN
CALSCALE:GREGORIAN
METHOD:PUBLISH
X-WR-CALNAME:Stalwart University Institute
X-ORIGINAL-URL:https://stalwartuniversityinstitute.com
X-WR-CALDESC:Events for Stalwart University Institute
REFRESH-INTERVAL;VALUE=DURATION:PT1H
X-Robots-Tag:noindex
X-PUBLISHED-TTL:PT1H
BEGIN:VTIMEZONE
TZID:UTC
BEGIN:STANDARD
TZOFFSETFROM:+0000
TZOFFSETTO:+0000
TZNAME:UTC
DTSTART:20200101T000000
END:STANDARD
END:VTIMEZONE
BEGIN:VEVENT
DTSTART;TZID=UTC:20230805T080000
DTEND;TZID=UTC:20230806T170000
DTSTAMP:20260426T005605
CREATED:20230724T092152Z
LAST-MODIFIED:20230724T112217Z
UID:2679-1691222400-1691341200@stalwartuniversityinstitute.com
SUMMARY:FINAL DEFENSE OF THESIS AND PROJECTS.
DESCRIPTION:
URL:https://stalwartuniversityinstitute.com/event/final-defense-of-thesis-and-projects/
END:VEVENT
BEGIN:VEVENT
DTSTART;TZID=UTC:20230801T080000
DTEND;TZID=UTC:20231015T170000
DTSTAMP:20260426T005605
CREATED:20230827T142028Z
LAST-MODIFIED:20230827T142028Z
UID:2693-1690876800-1697389200@stalwartuniversityinstitute.com
SUMMARY:ADMISSIONS AND REGISTRATION FOR 2023/2024 ACADEMIC YEAR
DESCRIPTION:
URL:https://stalwartuniversityinstitute.com/event/admissions-and-registration-for-2023-2024-academic-year/
END:VEVENT
BEGIN:VEVENT
DTSTART;TZID=UTC:20230731T080000
DTEND;TZID=UTC:20230731T170000
DTSTAMP:20260426T005605
CREATED:20230724T090614Z
LAST-MODIFIED:20230724T090614Z
UID:2673-1690790400-1690822800@stalwartuniversityinstitute.com
SUMMARY:PUBLICATION OF RESIT EXAMINATION RESULTS
DESCRIPTION:
URL:https://stalwartuniversityinstitute.com/event/publication-of-resit-examination-results/
END:VEVENT
BEGIN:VEVENT
DTSTART;TZID=UTC:20230727T080000
DTEND;TZID=UTC:20230729T170000
DTSTAMP:20260426T005605
CREATED:20230724T085821Z
LAST-MODIFIED:20230724T085821Z
UID:2671-1690444800-1690650000@stalwartuniversityinstitute.com
SUMMARY:RESIT EXAMINATION PERIOD
DESCRIPTION:
URL:https://stalwartuniversityinstitute.com/event/resit-examination-period/
END:VEVENT
BEGIN:VEVENT
DTSTART;TZID=UTC:20230726T080000
DTEND;TZID=UTC:20230726T080000
DTSTAMP:20260426T005605
CREATED:20230724T091541Z
LAST-MODIFIED:20230724T091541Z
UID:2677-1690358400-1690358400@stalwartuniversityinstitute.com
SUMMARY:PRE-DEFENSE OF THESIS REPORTS AND PROJECTS.
DESCRIPTION:
URL:https://stalwartuniversityinstitute.com/event/pre-defense-of-thesis-reports-and-projects/
END:VEVENT
BEGIN:VEVENT
DTSTART;TZID=UTC:20230724T080000
DTEND;TZID=UTC:20230724T091113
DTSTAMP:20260426T005605
CREATED:20230724T091112Z
LAST-MODIFIED:20230724T091112Z
UID:2675-1690185600-1690189873@stalwartuniversityinstitute.com
SUMMARY:DEADLINE FOR SUBMISSION OF THESIS REPORTS\, INTERNSHIP REPORTS AND PROJECTS.
DESCRIPTION:
URL:https://stalwartuniversityinstitute.com/event/deadline-for-submission-of-thesis-reports-internship-reports-and-projects/
END:VEVENT
BEGIN:VEVENT
DTSTART;TZID=UTC:20230307T080000
DTEND;TZID=UTC:20230320T170000
DTSTAMP:20260426T005605
CREATED:20230227T081026Z
LAST-MODIFIED:20230227T083458Z
UID:2634-1678176000-1679331600@stalwartuniversityinstitute.com
SUMMARY:FIRST SEMESTER BREAK
DESCRIPTION:
URL:https://stalwartuniversityinstitute.com/event/first-semester-break/
ATTACH;FMTTYPE=:
END:VEVENT
BEGIN:VEVENT
DTSTART;TZID=UTC:20230306T080000
DTEND;TZID=UTC:20230310T170000
DTSTAMP:20260426T005605
CREATED:20230226T225947Z
LAST-MODIFIED:20230226T230228Z
UID:2628-1678089600-1678467600@stalwartuniversityinstitute.com
SUMMARY:FIRST SEMESTER EXAMINATIONS FOR YEAR 1 AND 2
DESCRIPTION:
URL:https://stalwartuniversityinstitute.com/event/first-semester-examinations-for-year-1-and-2/
ATTACH;FMTTYPE=:
END:VEVENT
BEGIN:VEVENT
DTSTART;TZID=UTC:20230103T080000
DTEND;TZID=UTC:20230103T080000
DTSTAMP:20260426T005605
CREATED:20221011T075944Z
LAST-MODIFIED:20221011T075944Z
UID:2609-1672732800-1672732800@stalwartuniversityinstitute.com
SUMMARY:Resumption of lectures for FIRST SEMESTER
DESCRIPTION:
URL:https://stalwartuniversityinstitute.com/event/resumption-of-lectures-for-first-semester/
ATTACH;FMTTYPE=:
END:VEVENT
BEGIN:VEVENT
DTSTART;TZID=UTC:20221221T000000
DTEND;TZID=UTC:20221221T000000
DTSTAMP:20260426T005605
CREATED:20221011T075726Z
LAST-MODIFIED:20221011T075726Z
UID:2607-1671580800-1671580800@stalwartuniversityinstitute.com
SUMMARY:End of lectures and beginning of Christmas Break
DESCRIPTION:
URL:https://stalwartuniversityinstitute.com/event/end-of-lectures-and-beginning-of-christmas-break/
ATTACH;FMTTYPE=:
END:VEVENT
BEGIN:VEVENT
DTSTART;TZID=UTC:20221219T000000
DTEND;TZID=UTC:20221220T000000
DTSTAMP:20260426T005605
CREATED:20221011T075435Z
LAST-MODIFIED:20221130T050219Z
UID:2605-1671408000-1671494400@stalwartuniversityinstitute.com
SUMMARY:Publication of CONTINUOUS ASSESSMENTS (CA) Marks
DESCRIPTION:
URL:https://stalwartuniversityinstitute.com/event/publication-of-continuousassessments-ca-marks/
ATTACH;FMTTYPE=:
END:VEVENT
BEGIN:VEVENT
DTSTART;TZID=UTC:20221212T000000
DTEND;TZID=UTC:20221215T000000
DTSTAMP:20260426T005605
CREATED:20221011T075208Z
LAST-MODIFIED:20221130T050137Z
UID:2603-1670803200-1671062400@stalwartuniversityinstitute.com
SUMMARY:Period of CONTINUOUS ASSESSMENTS (CA)
DESCRIPTION:
URL:https://stalwartuniversityinstitute.com/event/period-of-continuousassessments-ca/
ATTACH;FMTTYPE=:
END:VEVENT
BEGIN:VEVENT
DTSTART;TZID=UTC:20221125T080000
DTEND;TZID=UTC:20221125T080000
DTSTAMP:20260426T005605
CREATED:20221011T074821Z
LAST-MODIFIED:20221117T105739Z
UID:2601-1669363200-1669363200@stalwartuniversityinstitute.com
SUMMARY:MARTICULATION DAY
DESCRIPTION:
URL:https://stalwartuniversityinstitute.com/event/marticulation-day/
LOCATION:SUI Building\, Feu Rouge Bessengue\, Douala\, 10022\, Cameroon
ATTACH;FMTTYPE=:
END:VEVENT
BEGIN:VEVENT
DTSTART;TZID=UTC:20221017T080000
DTEND;TZID=UTC:20221017T080000
DTSTAMP:20260426T005605
CREATED:20221011T074302Z
LAST-MODIFIED:20221011T074302Z
UID:2599-1665993600-1665993600@stalwartuniversityinstitute.com
SUMMARY:BEGINNING OF LECTURES FOR THE FIRST SEMESTER (PRO BACHELOR/MASTER AND MBA)
DESCRIPTION:
URL:https://stalwartuniversityinstitute.com/event/beginning-of-lectures-for-the-first-semester-pro-bachelor-master-and-mba/
LOCATION:SUI Building\, Feu Rouge Bessengue\, Douala\, 10022\, Cameroon
ATTACH;FMTTYPE=:
END:VEVENT
BEGIN:VEVENT
DTSTART;TZID=UTC:20221011T080000
DTEND;TZID=UTC:20221011T080000
DTSTAMP:20260426T005605
CREATED:20221011T073741Z
LAST-MODIFIED:20221011T073920Z
UID:2596-1665475200-1665475200@stalwartuniversityinstitute.com
SUMMARY:Beginning of lectures for the FIRST SEMESTER (Year 1\, HND and BTS)
DESCRIPTION:
URL:https://stalwartuniversityinstitute.com/event/beginning-of-lectures-for-the-first-semester-year-1-hned-and-bts/
LOCATION:SUI Building\, Feu Rouge Bessengue\, Douala\, 10022\, Cameroon
ATTACH;FMTTYPE=:
END:VEVENT
BEGIN:VEVENT
DTSTART;TZID=UTC:20220822T080000
DTEND;TZID=UTC:20220909T170000
DTSTAMP:20260426T005605
CREATED:20220728T042818Z
LAST-MODIFIED:20220728T044136Z
UID:2573-1661155200-1662742800@stalwartuniversityinstitute.com
SUMMARY:The Yieseh Foundation Scholarship
DESCRIPTION:Stalwart University institute in collaboration with THE YIESEH FOUNDATION\, announces scholarship opportunities to the best students of the 2022 GCE Advanced level examination from the 10 regions of Cameroon . This Scholarship ranges from partial to full tuition coverage. \nAll applications should be submitted with the following documents. \n\nA hand-written Application\nCopies of academic transcripts and or mark sheets if applicable\nGCE Advanced Level result slip\nA copy of personal Identification document\nColoured Passport Size Photo (4×4)\nScholarship Application duly filled ( Can be gotten from the admissions office on campus)\n\nUpon evaluation by the board\, successful Candidates will be notified on the next step if necessary.
URL:https://stalwartuniversityinstitute.com/event/the-yieseh-foundation-scholarship/
ATTACH;FMTTYPE=:
END:VEVENT
BEGIN:VEVENT
DTSTART;TZID=UTC:20220818T080000
DTEND;TZID=UTC:20220818T170000
DTSTAMP:20260426T005605
CREATED:20220628T081430Z
LAST-MODIFIED:20220801T104824Z
UID:2550-1660809600-1660842000@stalwartuniversityinstitute.com
SUMMARY:Competitive Entrance Exams into the 2022/2023 Academic Year
DESCRIPTION:The application package includes the following: \n1- An individual form to be completed on the website or to be withdrawn from the institute’s Admission”s office; \n  \n2- A photocopy of the birth certificate; \n  \n3- A photocopy of the Baccalaureate or the GCE/AL in the science subjects or the equivalent diploma or a certificate of completion of one of these diplomas where applicable; \n  \n4- A photocopy of the transcripts of the Probatoire and the Baccalauréat or the GCE/OL and the GCE/AL as applicable; \n  \n5- A medical certificate duly drawn up and issued by a doctor of the administration; \n  \n6- Two 4×4 photo cards bearing the candidate’s name on the back; \n  \n7- An A4 envelope with the candidate’s address. \n  \n  \n\n\n\nNo\nTOWN\nEXAM CENTERS\n\n\n\n\n\n\n\n\n\n1\n\nCollège Emilie Saker\n\n\n\n\n\n\n\n\n\n2\n\nCollège les petits Rousseau\, new route Bonaberi\n\n\n\n\n\n\n\n\n\n3\nDOUALA\nIPPB de Bonamoussadi\n\n\n\n\n\n\n\n\n\n\n\n\n\n\n4\n\nThe Nile College of Logpom\n\n\n\n\n\n\n\n\n\n5\n\nInstitut Polyvalent Minfang de pk14\n\n\n\n6\n\nMarie Jose School Group\, Tradex terminal 10\n\n\n\n7\n\nCollege les Anges\, towards Collège Père Monti\n\n\n\n\n\n\n\n\n\n8\n\nITSE College\, simbok entrance\n\n\n\n\nYAOUNDE\n\n\n\n\n9\nOsmond Innovatory Bilingual School\, pres du Carrefour Nkolbisson\n\n\n\n\n\n\n\n\n\n10\n\nCollege MK2\, to mobil Kodengui\n\n\n\n\n\n\n\n\n\n11\n\nDream School Complex\, Odza Station 10\n\n\n\n\n\n\n\n\n\n12\nBAFOUSSAM\nLycée Classique de Bafoussam\n\n\n\n\n\n\n\n\n\n13\nDSCHANG\nPublic Application Group (EPAB)\, City Hall\n\n\n\n14\nBANGANGTE\nCollège Saint Jean Baptiste\n\n\n\n\n\n\n\n\n\n15\nN’GAOUNDERE\nPrimary school of application of the Gendarmerie\, behind classical high school\n\n\n\n\n\n\n\n\n\n16\nMAROUA\nBilingual College Jacques de Bernon\, French section\n\n\n\n\n\n\n\n\n\n17\nGAROUA\nCollège sainte Thérèse\n\n\n\n\n\n\n\n\n\n18\nBAMENDA\nEDUCARE Primary School\, mile 2 Nkwen\n\n\n\n\n\n\n\n\n\n19\nBUEA\nSaint Theresa Primary School\n\n\n\n\n\n\n\n\n\n\n  \n  \n  \n 
URL:https://stalwartuniversityinstitute.com/event/competitive-entrance-exams-into-the-2022-2023-academic-year/
ATTACH;FMTTYPE=:
END:VEVENT
BEGIN:VEVENT
DTSTART;TZID=UTC:20220717T080000
DTEND;TZID=UTC:20220717T170000
DTSTAMP:20260426T005605
CREATED:20220624T234657Z
LAST-MODIFIED:20220624T234657Z
UID:2543-1658044800-1658077200@stalwartuniversityinstitute.com
SUMMARY:Defense of Projects
DESCRIPTION:
URL:https://stalwartuniversityinstitute.com/event/defense-of-projects/
ATTACH;FMTTYPE=:
END:VEVENT
BEGIN:VEVENT
DTSTART;TZID=UTC:20220704T080000
DTEND;TZID=UTC:20220704T170000
DTSTAMP:20260426T005605
CREATED:20220624T234726Z
LAST-MODIFIED:20220624T234726Z
UID:2545-1656921600-1656954000@stalwartuniversityinstitute.com
SUMMARY:Vocation for Students
DESCRIPTION:
URL:https://stalwartuniversityinstitute.com/event/vocation-for-students/
ATTACH;FMTTYPE=:
END:VEVENT
BEGIN:VEVENT
DTSTART;TZID=UTC:20220628T080000
DTEND;TZID=UTC:20220628T170000
DTSTAMP:20260426T005605
CREATED:20220624T234553Z
LAST-MODIFIED:20220628T072949Z
UID:2539-1656403200-1656435600@stalwartuniversityinstitute.com
SUMMARY:Beginning of Second Semester Exams
DESCRIPTION:
URL:https://stalwartuniversityinstitute.com/event/beginning-of-second-semester-exams/
ATTACH;FMTTYPE=:
END:VEVENT
BEGIN:VEVENT
DTSTART;TZID=UTC:20211011T100000
DTEND;TZID=UTC:20211015T150000
DTSTAMP:20260426T005605
CREATED:20170302T083911Z
LAST-MODIFIED:20210906T231338Z
UID:1264-1633946400-1634310000@stalwartuniversityinstitute.com
SUMMARY:Orientation Week and SUI Open Day Event
DESCRIPTION:
URL:https://stalwartuniversityinstitute.com/event/open-day-event/
LOCATION:SUI Building\, Feu Rouge Bessengue\, Douala\, 10022\, Cameroon
ATTACH;FMTTYPE=image/jpeg:https://stalwartuniversityinstitute.com/wp-content/uploads/2020/10/smartmockups_kg5smxdm.jpg
END:VEVENT
BEGIN:VEVENT
DTSTART;TZID=UTC:20210918T100000
DTEND;TZID=UTC:20210918T170000
DTSTAMP:20260426T005605
CREATED:20210906T231544Z
LAST-MODIFIED:20210907T112416Z
UID:2275-1631959200-1631984400@stalwartuniversityinstitute.com
SUMMARY:Scholarship Examination into the Institute
DESCRIPTION:Candidates are further reminded that registration formalities for the Scholarship Examinations are available at the school campus or should contact the phone number +237 659 29 40 20 or email scholarship@stalwartuniversity.com on or before the deadline for registration and for more information. \nNOTE: \n\nCertified copy of result slip.\nCertified copy of birth certificate.\nMedical certificate.\nPhotocopy of ID card/receipt.\nThe receipt of 10.000FCFA for students’ file studies
URL:https://stalwartuniversityinstitute.com/event/scholarship-exam/
LOCATION:SUI Building\, Feu Rouge Bessengue\, Douala\, 10022\, Cameroon
ATTACH;FMTTYPE=image/jpeg:https://stalwartuniversityinstitute.com/wp-content/uploads/2021/09/exam.jpeg
ORGANIZER;CN="Stalwart University Institute":MAILTO:events@stalwartuniversityinstitute.com
END:VEVENT
END:VCALENDAR