BEGIN:VCALENDAR
VERSION:2.0
PRODID:-//Stalwart University Institute - ECPv6.15.20//NONSGML v1.0//EN
CALSCALE:GREGORIAN
METHOD:PUBLISH
X-WR-CALNAME:Stalwart University Institute
X-ORIGINAL-URL:https://stalwartuniversityinstitute.com
X-WR-CALDESC:Events for Stalwart University Institute
REFRESH-INTERVAL;VALUE=DURATION:PT1H
X-Robots-Tag:noindex
X-PUBLISHED-TTL:PT1H
BEGIN:VTIMEZONE
TZID:UTC
BEGIN:STANDARD
TZOFFSETFROM:+0000
TZOFFSETTO:+0000
TZNAME:UTC
DTSTART:20230101T000000
END:STANDARD
END:VTIMEZONE
BEGIN:VTIMEZONE
TZID:Africa/Douala
BEGIN:STANDARD
TZOFFSETFROM:+0100
TZOFFSETTO:+0100
TZNAME:WAT
DTSTART:20230101T000000
END:STANDARD
END:VTIMEZONE
BEGIN:VTIMEZONE
TZID:Europe/Paris
BEGIN:DAYLIGHT
TZOFFSETFROM:+0100
TZOFFSETTO:+0200
TZNAME:CEST
DTSTART:20240331T010000
END:DAYLIGHT
BEGIN:STANDARD
TZOFFSETFROM:+0200
TZOFFSETTO:+0100
TZNAME:CET
DTSTART:20241027T010000
END:STANDARD
BEGIN:DAYLIGHT
TZOFFSETFROM:+0100
TZOFFSETTO:+0200
TZNAME:CEST
DTSTART:20250330T010000
END:DAYLIGHT
BEGIN:STANDARD
TZOFFSETFROM:+0200
TZOFFSETTO:+0100
TZNAME:CET
DTSTART:20251026T010000
END:STANDARD
BEGIN:DAYLIGHT
TZOFFSETFROM:+0100
TZOFFSETTO:+0200
TZNAME:CEST
DTSTART:20260329T010000
END:DAYLIGHT
BEGIN:STANDARD
TZOFFSETFROM:+0200
TZOFFSETTO:+0100
TZNAME:CET
DTSTART:20261025T010000
END:STANDARD
END:VTIMEZONE
BEGIN:VEVENT
DTSTART;VALUE=DATE:20250408
DTEND;VALUE=DATE:20250409
DTSTAMP:20260425T195811
CREATED:20250306T111100Z
LAST-MODIFIED:20250306T111100Z
UID:3113-1744070400-1744156799@stalwartuniversityinstitute.com
SUMMARY:Vetting of 2nd Semester Exam Questions by the Mentors.
DESCRIPTION:Vetting of 2nd semester exam questions by the mentors.\nValidation des sujets d’examen du 2e semestre par les tutelles.
URL:https://stalwartuniversityinstitute.com/event/vetting-of-2nd-semester-exam-questions-by-the-mentors/
END:VEVENT
BEGIN:VEVENT
DTSTART;TZID=UTC:20250326T080000
DTEND;TZID=UTC:20250328T170000
DTSTAMP:20260425T195811
CREATED:20250306T110847Z
LAST-MODIFIED:20250306T110847Z
UID:3110-1742976000-1743181200@stalwartuniversityinstitute.com
SUMMARY:Deadline for the submission of reports and projects for level 3\,4 & 5
DESCRIPTION:Deadline for the submission of reports and projects for level 3\,4 & 5.\nDelai de depot des rapport et projets pour les niveax 3\,4&5.
URL:https://stalwartuniversityinstitute.com/event/deadline-for-the-submission-of-reports-and-projects-for-level-34-5/
END:VEVENT
BEGIN:VEVENT
DTSTART;VALUE=DATE:20250320
DTEND;VALUE=DATE:20250321
DTSTAMP:20260425T195811
CREATED:20250306T103245Z
LAST-MODIFIED:20250306T103656Z
UID:3107-1742428800-1742515199@stalwartuniversityinstitute.com
SUMMARY:Deadline for the submission of CA no 2 marks to the DAAC
DESCRIPTION:Deadline for the submission of CA no 2 marks to the DAAC.\nDate limit de soumission des notes du CC no 2 au DAAC.
URL:https://stalwartuniversityinstitute.com/event/deadline-for-the-submission-of-ca-no-2-marks-to-the-daac/
END:VEVENT
BEGIN:VEVENT
DTSTART;TZID=UTC:20250317T080000
DTEND;TZID=UTC:20250322T170000
DTSTAMP:20260425T195811
CREATED:20250306T101141Z
LAST-MODIFIED:20250306T101141Z
UID:3103-1742198400-1742662800@stalwartuniversityinstitute.com
SUMMARY:Continuous Assessment for 2nd Semester Year 1\, 2 and 3 and all Schools
DESCRIPTION:Continuous assessment for 2nd semester year 1\, 2 and 3 and all schools.\nCC du 2nde semestre\, niveaux 1\, 2 et 3 et tout les ecoles.
URL:https://stalwartuniversityinstitute.com/event/continuous-assessment-for-2nd-semester-year-1-2-and-3-and-all-schools/
ATTACH;FMTTYPE=image/jpeg:https://stalwartuniversityinstitute.com/wp-content/uploads/2024/05/PHOTO-2021-09-23-08-13-22_3.jpg
END:VEVENT
BEGIN:VEVENT
DTSTART;VALUE=DATE:20250317
DTEND;VALUE=DATE:20250318
DTSTAMP:20260425T195811
CREATED:20250306T101722Z
LAST-MODIFIED:20250306T102810Z
UID:3105-1742169600-1742255999@stalwartuniversityinstitute.com
SUMMARY:Deadline for the submission of CA no 2 marks to the HOD’s by the Lecturers.
DESCRIPTION:Deadline for the submission of CA no 2 marks to the HOD’s by the lecturers.\nDelai de soumission des notes de CC du second semestre 2 aux chefs des ecoles par les enseignants.
URL:https://stalwartuniversityinstitute.com/event/deadline-for-the-submission-of-ca-no-2-marks-to-the-hods-by-the-lecturers/
END:VEVENT
BEGIN:VEVENT
DTSTART;TZID=UTC:20250307T080000
DTEND;TZID=UTC:20250310T170000
DTSTAMP:20260425T195811
CREATED:20250306T100614Z
LAST-MODIFIED:20250306T100614Z
UID:3101-1741334400-1741626000@stalwartuniversityinstitute.com
SUMMARY:Submission of Internship Reports by HND 2 students
DESCRIPTION:Dépôt des rapports de stage par les étudiants du niveau 2/ Submission of internship reports by HND 2 studentsDépôt des rapports de stage par les étudiants du niveau 2/ Submission of internship reports by HND 2 students.
URL:https://stalwartuniversityinstitute.com/event/submission-of-internship-reports-by-hnd-2-students/
END:VEVENT
BEGIN:VEVENT
DTSTART;TZID=Africa/Douala:20250306T080000
DTEND;TZID=Africa/Douala:20250306T170000
DTSTAMP:20260425T195811
CREATED:20250306T124126Z
LAST-MODIFIED:20250306T124126Z
UID:3135-1741248000-1741280400@stalwartuniversityinstitute.com
SUMMARY:Academic board meeting – Publication of 2nd semester results
DESCRIPTION:Délibération et publication des résultats du 2nd semestre/ Academic board meeting – Publication of 2nd semester results
URL:https://stalwartuniversityinstitute.com/event/academic-board-meeting-publication-of-2nd-semester-results/
ATTACH;FMTTYPE=image/jpeg:https://stalwartuniversityinstitute.com/wp-content/uploads/2022/03/P1055315.jpg
END:VEVENT
BEGIN:VEVENT
DTSTART;VALUE=DATE:20250224
DTEND;VALUE=DATE:20250225
DTSTAMP:20260425T195811
CREATED:20250107T143816Z
LAST-MODIFIED:20250107T143816Z
UID:3097-1740355200-1740441599@stalwartuniversityinstitute.com
SUMMARY:Request letter to tutor university for the defense jury
DESCRIPTION:Request letter to tutor university for the defense jury.\nLettre de demande des membres de jury pour la soutenance de étudiants au tutelles
URL:https://stalwartuniversityinstitute.com/event/request-letter-to-tutor-university-for-the-defense-jury/
ATTACH;FMTTYPE=image/jpeg:https://stalwartuniversityinstitute.com/wp-content/uploads/2023/11/IMG-20231127-WA0135.jpg
END:VEVENT
BEGIN:VEVENT
DTSTART;VALUE=DATE:20250211
DTEND;VALUE=DATE:20250212
DTSTAMP:20260425T195811
CREATED:20250107T143143Z
LAST-MODIFIED:20250107T143143Z
UID:3093-1739232000-1739318399@stalwartuniversityinstitute.com
SUMMARY:National Youth Day Celebration
DESCRIPTION:National Youth Day celebration. \nFête National de la jeunesse.
URL:https://stalwartuniversityinstitute.com/event/national-youth-day-celebration/
ATTACH;FMTTYPE=image/jpeg:https://stalwartuniversityinstitute.com/wp-content/uploads/2023/11/IMG-20231127-WA0143.jpg
END:VEVENT
BEGIN:VEVENT
DTSTART;TZID=UTC:20250203T080000
DTEND;TZID=UTC:20250208T170000
DTSTAMP:20260425T195811
CREATED:20250107T142649Z
LAST-MODIFIED:20250107T142649Z
UID:3088-1738569600-1739034000@stalwartuniversityinstitute.com
SUMMARY:Normal session of 1st semester examinations.
DESCRIPTION:Normal session of 1st semester examinations. \nExamens de session normale de fin du 1er semestre de tout les étudiants
URL:https://stalwartuniversityinstitute.com/event/normal-session-of-1st-semester-examinations/
ATTACH;FMTTYPE=image/jpeg:https://stalwartuniversityinstitute.com/wp-content/uploads/2022/03/PHOTO-2021-09-23-08-13-22_3.jpg
END:VEVENT
BEGIN:VEVENT
DTSTART;TZID=Europe/Paris:20250110T080000
DTEND;TZID=Europe/Paris:20250215T170000
DTSTAMP:20260425T195811
CREATED:20250107T142210Z
LAST-MODIFIED:20250107T142210Z
UID:3086-1736496000-1739638800@stalwartuniversityinstitute.com
SUMMARY:Internship for two months for years 3\, 4&5 and continuation of lectures.
DESCRIPTION:Internship for two months for years 3\, 4&5 and continuation of lectures.\nStages académiques pour deux mois pour les niveaux 3\, 4&5 et continuité des cours.
URL:https://stalwartuniversityinstitute.com/event/internship-for-two-months-for-years-3-45-and-continuation-of-lectures/
ATTACH;FMTTYPE=image/jpeg:https://stalwartuniversityinstitute.com/wp-content/uploads/2024/05/PHOTO-2022-06-22-07-08-38-11.jpg
ORGANIZER;CN="Stalwart University Institute":MAILTO:events@stalwartuniversityinstitute.com
END:VEVENT
BEGIN:VEVENT
DTSTART;TZID=UTC:20250107T080000
DTEND;TZID=UTC:20250107T170000
DTSTAMP:20260425T195811
CREATED:20250107T143435Z
LAST-MODIFIED:20250107T143435Z
UID:3095-1736236800-1736269200@stalwartuniversityinstitute.com
SUMMARY:Academic board meeting - publication of 1st semester results
DESCRIPTION:Academic board meeting – publication of 1st semester results.\nDeliberation et publication des résultats du lere semestre.
URL:https://stalwartuniversityinstitute.com/event/academic-board-meeting-publication-of-1st-semester-results/
ATTACH;FMTTYPE=image/jpeg:https://stalwartuniversityinstitute.com/wp-content/uploads/2023/11/WhatsApp-Image-2023-11-13-at-18.13.58_2f2bc25a.jpg
END:VEVENT
BEGIN:VEVENT
DTSTART;TZID=Africa/Douala:20241229T080000
DTEND;TZID=Africa/Douala:20241229T170000
DTSTAMP:20260425T195811
CREATED:20241011T140634Z
LAST-MODIFIED:20241011T140634Z
UID:3081-1735459200-1735491600@stalwartuniversityinstitute.com
SUMMARY:Seminar on Supervision of Research Projects and Dissertations with Lecturers
DESCRIPTION:Seminar on Supervision of Research Projects and Dissertations – 29th December 2024 \nA seminar focusing on the supervision of research projects and dissertations will be held on 29th December 2024. Heads of Departments (HODs) will guide lecturers in assigning students for the supervision of internship reports\, projects\, and dissertations\, ensuring that all students receive appropriate mentorship throughout their research journey.
URL:https://stalwartuniversityinstitute.com/event/seminar-on-supervision-of-research-projects-and-dissertations-with-lecturers/
ATTACH;FMTTYPE=image/jpeg:https://stalwartuniversityinstitute.com/wp-content/uploads/2023/11/PEN07480-scaled.jpg
END:VEVENT
BEGIN:VEVENT
DTSTART;VALUE=DATE:20241223
DTEND;VALUE=DATE:20250104
DTSTAMP:20260425T195811
CREATED:20241011T135959Z
LAST-MODIFIED:20241011T140101Z
UID:3079-1734912000-1735948799@stalwartuniversityinstitute.com
SUMMARY:Christmas Break for All Students - 23rd December 2024 to 3rd January 2025
DESCRIPTION:Christmas Break for All Students – 23rd December 2024 to 3rd January 2025 \nAll students will observe a Christmas break from 23rd December 2024 to 3rd January 2025. This festive period offers a chance to relax\, celebrate\, and recharge before the start of the new academic term. Enjoy the holidays!
URL:https://stalwartuniversityinstitute.com/event/christmas-break-for-all-students-23rd-december-2024-to-3rd-january-2025/
ATTACH;FMTTYPE=image/jpeg:https://stalwartuniversityinstitute.com/wp-content/uploads/2023/11/IMG-20231127-WA0143.jpg
END:VEVENT
BEGIN:VEVENT
DTSTART;TZID=Africa/Douala:20241209T080000
DTEND;TZID=Africa/Douala:20241209T170000
DTSTAMP:20260425T195811
CREATED:20241011T135708Z
LAST-MODIFIED:20241011T135826Z
UID:3077-1733731200-1733763600@stalwartuniversityinstitute.com
SUMMARY:Vetting of 1st semester exam questions by the mentor  Universities
DESCRIPTION:Vetting of 1st Semester Exam Questions by Mentor Universities – 9th December 2024 \nOn 9th December 2024\, mentor universities will conduct the vetting of first-semester exam questions. This process ensures that the questions meet academic standards and are aligned with the curriculum\, facilitating a fair assessment for all students.
URL:https://stalwartuniversityinstitute.com/event/vetting-of-1st-semester-exam-questions-by-the-mentor-universities/
ATTACH;FMTTYPE=image/jpeg:https://stalwartuniversityinstitute.com/wp-content/uploads/2023/11/IMG-20231113-WA0183.jpg
END:VEVENT
BEGIN:VEVENT
DTSTART;TZID=UTC:20241204T080000
DTEND;TZID=UTC:20250208T170000
DTSTAMP:20260425T195811
CREATED:20241011T135252Z
LAST-MODIFIED:20241011T135252Z
UID:3075-1733299200-1739034000@stalwartuniversityinstitute.com
SUMMARY:Deadline of pre-enrollment of  students of HND level I in the MINESUP platform
DESCRIPTION:Deadline for Pre-enrollment of HND Level I Students on MINESUP Platform – 4th to 8th December 2024 \nThe pre-enrollment period for HND Level I students on the MINESUP platform runs from 4th to 8th December 2024. All eligible students must complete their pre-enrollment within this window to ensure their registration is processed for the upcoming session.
URL:https://stalwartuniversityinstitute.com/event/deadline-of-pre-enrollment-of-students-of-hnd-level-i-in-the-minesup-platform/
ATTACH;FMTTYPE=image/jpeg:https://stalwartuniversityinstitute.com/wp-content/uploads/2023/02/IMG-20230210-WA0088.jpg
END:VEVENT
BEGIN:VEVENT
DTSTART;TZID=UTC:20241202T080000
DTEND;TZID=UTC:20241202T170000
DTSTAMP:20260425T195811
CREATED:20241011T134955Z
LAST-MODIFIED:20241011T134955Z
UID:3073-1733126400-1733158800@stalwartuniversityinstitute.com
SUMMARY:Deadline for submission of marks to DAAC
DESCRIPTION:Deadline for Submission of Marks to DAAC – 2nd December 2024 \nLecturers are required to submit all finalized marks to the Directorate of Academic Affairs Committee (DAAC) by 2nd December 2024. This ensures timely processing and publication of results for the academic session
URL:https://stalwartuniversityinstitute.com/event/deadline-for-submission-of-marks-to-daac/
END:VEVENT
BEGIN:VEVENT
DTSTART;TZID=Africa/Douala:20241201T080000
DTEND;TZID=Africa/Douala:20241214T170000
DTSTAMP:20260425T195811
CREATED:20241011T131833Z
LAST-MODIFIED:20241011T132103Z
UID:3071-1733040000-1734195600@stalwartuniversityinstitute.com
SUMMARY:Distribution of internship placement letters
DESCRIPTION:Distribution of Internship Placement Letters – 1st to 14th December 2024 \nInternship placement letters will be distributed to students from 1st to 14th December 2024. Students should collect their letters within this period to secure their internship assignments and prepare for the upcoming practical experience.
URL:https://stalwartuniversityinstitute.com/event/distribution-of-internship-placement-letters/
ATTACH;FMTTYPE=image/jpeg:https://stalwartuniversityinstitute.com/wp-content/uploads/2023/11/IMG-20231113-WA0183.jpg
END:VEVENT
BEGIN:VEVENT
DTSTART;TZID=Africa/Douala:20241130T080000
DTEND;TZID=Africa/Douala:20241130T170000
DTSTAMP:20260425T195811
CREATED:20241011T094906Z
LAST-MODIFIED:20241011T114404Z
UID:3061-1732953600-1732986000@stalwartuniversityinstitute.com
SUMMARY:Deadline for submission of national HND exams questions  and other semester examens questions
DESCRIPTION:Deadline for Submission of National HND and Semester Exam Questions – 16th November 2024 \nLecturers are required to submit two sets of National HND and semester exam questions by 16th November 2024. All submissions must be completed under the supervision of the heads of departments to ensure compliance with examination standards.
URL:https://stalwartuniversityinstitute.com/event/deadline-for-submission-of-national-hnd-exams-questions-and-other-semester-examens-questions/
ATTACH;FMTTYPE=image/jpeg:https://stalwartuniversityinstitute.com/wp-content/uploads/2022/03/PHOTO-2021-09-23-08-13-22_3.jpg
END:VEVENT
BEGIN:VEVENT
DTSTART;VALUE=DATE:20241130
DTEND;VALUE=DATE:20241207
DTSTAMP:20260425T195811
CREATED:20241011T114227Z
LAST-MODIFIED:20241011T114227Z
UID:3068-1732924800-1733529599@stalwartuniversityinstitute.com
SUMMARY:Intensive period  of registration of HND candidates for session 2025 on the web site of MINESUP
DESCRIPTION:Intensive Registration Period for 2025 HND Candidates on MINESUP Website – 30th November to 6th December 2024 \nThe registration period for 2025 HND candidates will take place from 30th November to 6th December 2024. All eligible students are required to complete their registration on the MINESUP website during this timeframe.
URL:https://stalwartuniversityinstitute.com/event/intensive-period-of-registration-of-hnd-candidates-for-session-2025-on-the-web-site-of-minesup/
ATTACH;FMTTYPE=image/jpeg:https://stalwartuniversityinstitute.com/wp-content/uploads/2024/05/PHOTO-2022-06-22-07-08-38-11.jpg
END:VEVENT
BEGIN:VEVENT
DTSTART;TZID=UTC:20241118T080000
DTEND;TZID=UTC:20241122T170000
DTSTAMP:20260425T195811
CREATED:20241011T095837Z
LAST-MODIFIED:20241011T095837Z
UID:3063-1731916800-1732294800@stalwartuniversityinstitute.com
SUMMARY:Continuos assessment in all the schools and all levels
DESCRIPTION:Continuous Assessment for All Schools and Levels – 18th to 22nd November 2024 \nContinuous assessment for all students\, across all schools and levels\, will take place from 18th to 22nd November 2024. Students are encouraged to prepare thoroughly\, as these assessments contribute significantly to their overall performance.
URL:https://stalwartuniversityinstitute.com/event/continuos-assessment-in-all-the-schools-and-all-levels/
ATTACH;FMTTYPE=image/jpeg:https://stalwartuniversityinstitute.com/wp-content/uploads/2022/03/PHOTO-2021-09-23-08-13-22_3.jpg
END:VEVENT
BEGIN:VEVENT
DTSTART;TZID=Africa/Douala:20241118T080000
DTEND;TZID=Africa/Douala:20241122T170000
DTSTAMP:20260425T195811
CREATED:20241011T094020Z
LAST-MODIFIED:20241011T104157Z
UID:3059-1731916800-1732294800@stalwartuniversityinstitute.com
SUMMARY:Control of record of work by DAAC
DESCRIPTION:Control of Record of Work by DAAC – 13th to 16th November 2024 \nThe Directorate of Academic Affairs Committee (DAAC) will conduct a review of the record of work from 13th to 16th November 2024. This process ensures that academic standards and teaching requirements are being met across all departments.
URL:https://stalwartuniversityinstitute.com/event/control-of-record-of-work-by-daac/
ATTACH;FMTTYPE=image/jpeg:https://stalwartuniversityinstitute.com/wp-content/uploads/2023/11/IMG-20231113-WA0183.jpg
END:VEVENT
BEGIN:VEVENT
DTSTART;TZID=Africa/Douala:20241028T080000
DTEND;TZID=Africa/Douala:20241028T170000
DTSTAMP:20260425T195811
CREATED:20241010T162618Z
LAST-MODIFIED:20241010T162618Z
UID:3056-1730102400-1730134800@stalwartuniversityinstitute.com
SUMMARY:Resumption for all year 4 &5 students
DESCRIPTION:Resumption for Year 4 & 5 Students – 28th October 2024 \nAll Year 4 and 5 students are scheduled to resume classes on 28th October 2024. Prepare for an exciting new term of learning and growth as we kick off the academic year!
URL:https://stalwartuniversityinstitute.com/event/resumption-for-all-year-4-5-students/
ATTACH;FMTTYPE=image/jpeg:https://stalwartuniversityinstitute.com/wp-content/uploads/2024/05/PHOTO-2022-06-22-07-08-38-9.jpg
END:VEVENT
BEGIN:VEVENT
DTSTART;VALUE=DATE:20241023
DTEND;VALUE=DATE:20241024
DTSTAMP:20260425T195811
CREATED:20241011T100356Z
LAST-MODIFIED:20241011T100518Z
UID:3065-1729641600-1729727999@stalwartuniversityinstitute.com
SUMMARY:Matriculation ceremony for all fresh students of SUI.
DESCRIPTION:Matriculation Ceremony for Fresh Students of SUI – 23rd November 2024 \nThe matriculation ceremony for all newly admitted students of SUI will be held on 23rd November 2024. Students are required to attend in formal attire: black suits with a white shirt or a white shirt over black trousers\, paired with black shoes. This ceremony marks the official start of their academic journey.
URL:https://stalwartuniversityinstitute.com/event/matriculation-ceremony-for-all-fresh-students-of-sui/
ATTACH;FMTTYPE=image/jpeg:https://stalwartuniversityinstitute.com/wp-content/uploads/2023/11/IMG-20231127-WA0092.jpg
END:VEVENT
BEGIN:VEVENT
DTSTART;TZID=Africa/Douala:20241022T080000
DTEND;TZID=Africa/Douala:20241024T170000
DTSTAMP:20260425T195811
CREATED:20241010T162254Z
LAST-MODIFIED:20241010T162254Z
UID:3054-1729584000-1729789200@stalwartuniversityinstitute.com
SUMMARY:Deadline for the reception of complaints for the correction of marks
DESCRIPTION:Deadline for Reception of Complaints for Mark Corrections – 22nd to 24th October 2024 \nStudents wishing to submit complaints regarding mark corrections must do so between 22nd and 24th October 2024. Ensure all submissions are completed within this timeframe for timely review and consideration.
URL:https://stalwartuniversityinstitute.com/event/deadline-for-the-reception-of-complaints-for-the-correction-of-marks/
END:VEVENT
BEGIN:VEVENT
DTSTART;TZID=Africa/Douala:20241019T100000
DTEND;TZID=Africa/Douala:20241019T235900
DTSTAMP:20260425T195811
CREATED:20241010T161859Z
LAST-MODIFIED:20241010T162031Z
UID:3052-1729332000-1729382340@stalwartuniversityinstitute.com
SUMMARY:Publication of the resit camination results
DESCRIPTION:Publication of Resit Examination Results – 19th October 2024 \nThe results of the resit examinations will be released on 19th October 2024. Students are encouraged to check the official platforms for their updated scores and further instructions.
URL:https://stalwartuniversityinstitute.com/event/publication-of-the-resit-camination-results/
END:VEVENT
BEGIN:VEVENT
DTSTART;TZID=Africa/Douala:20241010T100000
DTEND;TZID=Africa/Douala:20241010T120000
DTSTAMP:20260425T195811
CREATED:20241010T160753Z
LAST-MODIFIED:20241010T161536Z
UID:3049-1728554400-1728561600@stalwartuniversityinstitute.com
SUMMARY:Top management meeting/Reunion de top management
DESCRIPTION:Top Management Meeting (10:00 AM) – 10th October 2024 \nThe top management team will convene for a strategic discussion on key operational and developmental goals. This meeting will focus on decision-making\, planning\, and aligning leadership efforts for the upcoming quarter
URL:https://stalwartuniversityinstitute.com/event/top-management-meeting-reunion-de-top-management/
ATTACH;FMTTYPE=image/jpeg:https://stalwartuniversityinstitute.com/wp-content/uploads/2023/11/WhatsApp-Image-2023-11-13-at-18.13.58_2f2bc25a.jpg
END:VEVENT
BEGIN:VEVENT
DTSTART;TZID=UTC:20241007T080000
DTEND;TZID=UTC:20241007T170000
DTSTAMP:20260425T195811
CREATED:20241010T160425Z
LAST-MODIFIED:20241010T160638Z
UID:3047-1728288000-1728320400@stalwartuniversityinstitute.com
SUMMARY:Resumption for all students of level 1
DESCRIPTION:Rentrée académique de tous les étudiants de 1ere année / Resumption for all students of level 1\nOuverture de la campagne de sensibilisation pour les dossiers des examens nationaux BTS/HND/Awareness. \nCampaign opens for BTS/HND national exam files
URL:https://stalwartuniversityinstitute.com/event/resumption-for-all-students-of-level-1/
ATTACH;FMTTYPE=image/jpeg:https://stalwartuniversityinstitute.com/wp-content/uploads/2024/05/PHOTO-2022-06-22-07-08-38-copy.jpg
END:VEVENT
BEGIN:VEVENT
DTSTART;TZID=UTC:20241005T080000
DTEND;TZID=UTC:20241005T170000
DTSTAMP:20260425T195811
CREATED:20241010T121833Z
LAST-MODIFIED:20241010T154846Z
UID:3045-1728115200-1728147600@stalwartuniversityinstitute.com
SUMMARY:Scholarship Exam (Conours de Bourses Scolaires)
DESCRIPTION:
URL:https://stalwartuniversityinstitute.com/event/scholarship-exam-conours-de-bourses-scolaires/
END:VEVENT
BEGIN:VEVENT
DTSTART;TZID=Africa/Douala:20240831T120000
DTEND;TZID=Africa/Douala:20240831T160000
DTSTAMP:20260425T195811
CREATED:20240720T010454Z
LAST-MODIFIED:20240809T211853Z
UID:2930-1725105600-1725120000@stalwartuniversityinstitute.com
SUMMARY:SCHOOL ORIENTATION DAY
DESCRIPTION:  \n\nWelcome to Stalwart Unity Institute’s School Orientation Day!\nEvent: School Orientation Day (Open Doors for Students)\nDate: Saturday\, 31st August 2024\nTime: 12:00 PM\nLocation: Campus B\, Adjacent to TOTAL 2\, after TOTAL ROND POINT \n\nDiscover\, Explore\, and Connect\nAs we prepare to welcome back students for the new academic year\, we invite you to our School Orientation Day—an exciting event designed to help new and returning students get acquainted with Stalwart Unity Institute. \nJoin us on Saturday\, 31st August 2024\, at 12:00 PM at Campus B\, conveniently located adjacent to TOTAL 2 and TOTAL ROND POINT. This is a fantastic opportunity to: \n\nExplore Our Campus: Take a tour of our state-of-the-art facilities and get a feel for your new learning environment.\nMeet Our Faculty: Connect with our dedicated teachers and staff who are eager to support and guide you throughout the school year.\nDiscover Opportunities: Learn about the various extracurricular activities\, clubs\, and organizations you can join to enhance your educational experience.\nAsk Questions: Get answers to any questions you may have about the upcoming school year\, curriculum\, and student life.\n\nWhy Attend?\n\nInteractive Sessions: Participate in engaging activities designed to introduce you to our school culture and community.\nResource Fair: Access valuable information about student resources\, support services\, and more.\nSocialize: Meet fellow students\, make new friends\, and start building your school network.\n\nWe are excited to meet you and help you embark on this new journey at Stalwart Unity Institute. Don’t miss out on this chance to start your school year
URL:https://stalwartuniversityinstitute.com/event/school-orientation-day/
LOCATION:SUI Building\, Feu Rouge Bessengue\, Douala\, 10022\, Cameroon
ATTACH;FMTTYPE=image/jpeg:https://stalwartuniversityinstitute.com/wp-content/uploads/2024/07/Stalwart-Orientation-Event-August-31st-2024.jpg
ORGANIZER;CN="Stalwart University Institute":MAILTO:events@stalwartuniversityinstitute.com
END:VEVENT
END:VCALENDAR