BEGIN:VCALENDAR
VERSION:2.0
PRODID:-//Stalwart University Institute - ECPv6.15.20//NONSGML v1.0//EN
CALSCALE:GREGORIAN
METHOD:PUBLISH
X-WR-CALNAME:Stalwart University Institute
X-ORIGINAL-URL:https://stalwartuniversityinstitute.com
X-WR-CALDESC:Events for Stalwart University Institute
REFRESH-INTERVAL;VALUE=DURATION:PT1H
X-Robots-Tag:noindex
X-PUBLISHED-TTL:PT1H
BEGIN:VTIMEZONE
TZID:UTC
BEGIN:STANDARD
TZOFFSETFROM:+0000
TZOFFSETTO:+0000
TZNAME:UTC
DTSTART:20250101T000000
END:STANDARD
END:VTIMEZONE
BEGIN:VEVENT
DTSTART;VALUE=DATE:20260413
DTEND;VALUE=DATE:20260529
DTSTAMP:20260425T143309
CREATED:20260421T154416Z
LAST-MODIFIED:20260421T154416Z
UID:3183-1776038400-1780012799@stalwartuniversityinstitute.com
SUMMARY:PROJECT VALIDATION & SUPERVISION FOR FINAL YEAR STUDENTS ONGOING
DESCRIPTION:Stalwart University Institute is pleased to announce the ongoing Final Year Project Validation and Supervision exercise for all eligible Final Year students. \nThis important academic event is organized to support students through the successful preparation and completion of their final year projects. The exercise includes project topic review and validation\, supervisor assignment\, academic guidance\, progress monitoring\, and research support. \nStudents are expected to actively participate in the process by submitting their proposed project topics\, following departmental guidelines\, meeting assigned supervisors regularly\, and respecting all academic deadlines. \nThe Project Validation and Supervision exercise is an essential stage of every student’s academic journey\, ensuring that research work meets the required standards of quality\, originality\, and professionalism. \nAll Final Year students are strongly encouraged to complete the necessary procedures on time and remain committed throughout the supervision period. \nFor additional information\, students should contact their respective departments or the administration office. \nSTALWART UNIVERSITY INSTITUTE\nBuilding Excellence Through Education
URL:https://stalwartuniversityinstitute.com/event/project-validation-supervision-for-final-year-students-ongoing/
END:VEVENT
END:VCALENDAR